BEGIN:VCALENDAR
VERSION:2.0
PRODID:-//ChurchDev//Events//EN
CALSCALE:GREGORIAN
METHOD:PUBLISH
BEGIN:VEVENT
UID:7647-20240602@www.lorisfbc.com
SUMMARY:Honoring Graduates
DTSTART;VALUE=DATE:20240602
DTEND;VALUE=DATE:20240603
DESCRIPTION:https://www.lorisfbc.com/events/honoring-graduates/
LOCATION:3117 Main Street Loris\, South Carolina 29569-2735
URL:https://www.lorisfbc.com/events/honoring-graduates/
DTSTAMP:20260419T150800Z
END:VEVENT
END:VCALENDAR
